{
 "currentVersion": 10.31,
 "serviceDescription": "A 2022 aerial photo map service of the City of St. Albert in Alberta, Canada. Contains 2022 photography of 7.5cm resolution. Suitable for public consumption.",
 "mapName": "Layers",
 "description": "",
 "copyrightText": "City of St. Albert",
 "supportsDynamicLayers": false,
 "layers": [
  {
   "id": 0,
   "name": "Imagery_2022_7_5cm.sid",
   "parentLayerId": -1,
   "defaultVisibility": true,
   "subLayerIds": null,
   "minScale": 80000,
   "maxScale": 0
  }
 ],
 "tables": [],
 "spatialReference": {
  "wkid": 102187,
  "latestWkid": 3776
 },
 "singleFusedMapCache": true,
 "tileInfo": {
  "rows": 256,
  "cols": 256,
  "dpi": 96,
  "format": "JPEG",
  "compressionQuality": 75,
  "origin": {
   "x": -5622600,
   "y": 10001100
  },
  "spatialReference": {
   "wkid": 102187,
   "latestWkid": 3776
  },
  "lods": [
   {
    "level": 0,
    "resolution": 19.10925707126831,
    "scale": 72223.819286
   },
   {
    "level": 1,
    "resolution": 9.554628535634155,
    "scale": 36111.909643
   },
   {
    "level": 2,
    "resolution": 4.77731426794937,
    "scale": 18055.954822
   },
   {
    "level": 3,
    "resolution": 2.388657133974685,
    "scale": 9027.977411
   },
   {
    "level": 4,
    "resolution": 1.1943285668550503,
    "scale": 4513.988705
   },
   {
    "level": 5,
    "resolution": 0.5971642835598172,
    "scale": 2256.994353
   },
   {
    "level": 6,
    "resolution": 0.29858214164761665,
    "scale": 1128.497176
   },
   {
    "level": 7,
    "resolution": 0.14929107082380833,
    "scale": 564.248588
   },
   {
    "level": 8,
    "resolution": 0.07464553541190416,
    "scale": 282.124294
   }
  ]
 },
 "initialExtent": {
  "xmin": 17489.25,
  "ymin": 5939550,
  "xmax": 30111.75,
  "ymax": 5951430,
  "spatialReference": {
   "wkid": 102187,
   "latestWkid": 3776
  }
 },
 "fullExtent": {
  "xmin": 18063,
  "ymin": 5940090,
  "xmax": 29538,
  "ymax": 5950890,
  "spatialReference": {
   "wkid": 102187,
   "latestWkid": 3776
  }
 },
 "minScale": 72223.819286,
 "maxScale": 282.124294,
 "units": "esriMeters",
 "supportedImageFormatTypes": "PNG32,PNG24,PNG,JPG,DIB,TIFF,EMF,PS,PDF,GIF,SVG,SVGZ,BMP",
 "documentInfo": {
  "Title": "",
  "Author": "",
  "Comments": "",
  "Subject": "",
  "Category": "",
  "AntialiasingMode": "None",
  "TextAntialiasingMode": "Force",
  "Keywords": "St Albert,air photo,orthophoto,aerial,Alberta,Canada,2022"
 },
 "capabilities": "Map,Query,Data",
 "supportedQueryFormats": "JSON, AMF",
 "exportTilesAllowed": false,
 "maxRecordCount": 1000,
 "maxImageHeight": 4096,
 "maxImageWidth": 4096,
 "supportedExtensions": ""
}
