{
 "currentVersion": 10.31,
 "serviceDescription": "Combined vector and raster basemap displaying key topographic data. This is a fused cache map service for basemap use under other dynamic services. Projection: 3TM (114)",
 "mapName": "Layers",
 "description": "",
 "copyrightText": "Corporate GIS, City of St Albert, Alberta, Canada",
 "supportsDynamicLayers": false,
 "layers": [
  {
   "id": 0,
   "name": "City Boundary",
   "parentLayerId": -1,
   "defaultVisibility": true,
   "subLayerIds": null,
   "minScale": 3000000,
   "maxScale": 0
  },
  {
   "id": 1,
   "name": "Railway",
   "parentLayerId": -1,
   "defaultVisibility": true,
   "subLayerIds": null,
   "minScale": 10000,
   "maxScale": 0
  },
  {
   "id": 2,
   "name": "Railway - zoomed out",
   "parentLayerId": -1,
   "defaultVisibility": true,
   "subLayerIds": null,
   "minScale": 100000,
   "maxScale": 10001
  },
  {
   "id": 3,
   "name": "Streets 30000-80000",
   "parentLayerId": -1,
   "defaultVisibility": true,
   "subLayerIds": null,
   "minScale": 80000,
   "maxScale": 30001
  },
  {
   "id": 4,
   "name": "Streets 15000-30000",
   "parentLayerId": -1,
   "defaultVisibility": true,
   "subLayerIds": null,
   "minScale": 30000,
   "maxScale": 15001
  },
  {
   "id": 5,
   "name": "Streets 3000-15000",
   "parentLayerId": -1,
   "defaultVisibility": true,
   "subLayerIds": null,
   "minScale": 15000,
   "maxScale": 3001
  },
  {
   "id": 6,
   "name": "Streets 0-3000",
   "parentLayerId": -1,
   "defaultVisibility": true,
   "subLayerIds": null,
   "minScale": 3000,
   "maxScale": 0
  },
  {
   "id": 7,
   "name": "Streams",
   "parentLayerId": -1,
   "defaultVisibility": true,
   "subLayerIds": null,
   "minScale": 200000,
   "maxScale": 0
  },
  {
   "id": 8,
   "name": "Lake and River Labels",
   "parentLayerId": -1,
   "defaultVisibility": true,
   "subLayerIds": null,
   "minScale": 50000,
   "maxScale": 0
  },
  {
   "id": 9,
   "name": "Water Cartographic Buffers",
   "parentLayerId": -1,
   "defaultVisibility": true,
   "subLayerIds": null,
   "minScale": 200000,
   "maxScale": 0
  },
  {
   "id": 10,
   "name": "Lakes and Rivers",
   "parentLayerId": -1,
   "defaultVisibility": true,
   "subLayerIds": null,
   "minScale": 200000,
   "maxScale": 0
  },
  {
   "id": 11,
   "name": "Surface Model Hillshade",
   "parentLayerId": -1,
   "defaultVisibility": true,
   "subLayerIds": null,
   "minScale": 250000,
   "maxScale": 0
  },
  {
   "id": 12,
   "name": "Map Service Full Extent Boundary",
   "parentLayerId": -1,
   "defaultVisibility": true,
   "subLayerIds": null,
   "minScale": 3000000,
   "maxScale": 0
  }
 ],
 "tables": [],
 "spatialReference": {
  "wkid": 3780,
  "latestWkid": 3780
 },
 "singleFusedMapCache": true,
 "tileInfo": {
  "rows": 256,
  "cols": 256,
  "dpi": 96,
  "format": "MIXED",
  "compressionQuality": 90,
  "origin": {
   "x": -5622600,
   "y": 10001100
  },
  "spatialReference": {
   "wkid": 3780,
   "latestWkid": 3780
  },
  "lods": [
   {
    "level": 0,
    "resolution": 793.7515875031751,
    "scale": 3000000
   },
   {
    "level": 1,
    "resolution": 264.5838625010584,
    "scale": 1000000
   },
   {
    "level": 2,
    "resolution": 132.2919312505292,
    "scale": 500000
   },
   {
    "level": 3,
    "resolution": 79.37515875031751,
    "scale": 300000
   },
   {
    "level": 4,
    "resolution": 52.91677250021167,
    "scale": 200000
   },
   {
    "level": 5,
    "resolution": 26.458386250105836,
    "scale": 100000
   },
   {
    "level": 6,
    "resolution": 19.843789687579378,
    "scale": 75000
   },
   {
    "level": 7,
    "resolution": 13.229193125052918,
    "scale": 50000
   },
   {
    "level": 8,
    "resolution": 7.9375158750317505,
    "scale": 30000
   },
   {
    "level": 9,
    "resolution": 5.291677250021167,
    "scale": 20000
   },
   {
    "level": 10,
    "resolution": 3.9687579375158752,
    "scale": 15000
   },
   {
    "level": 11,
    "resolution": 2.6458386250105836,
    "scale": 10000
   },
   {
    "level": 12,
    "resolution": 1.8520870375074086,
    "scale": 7000
   },
   {
    "level": 13,
    "resolution": 1.0583354500042335,
    "scale": 4000
   },
   {
    "level": 14,
    "resolution": 0.7937515875031751,
    "scale": 3000
   },
   {
    "level": 15,
    "resolution": 0.42333418000169337,
    "scale": 1600
   },
   {
    "level": 16,
    "resolution": 0.26458386250105836,
    "scale": 1000
   },
   {
    "level": 17,
    "resolution": 0.13229193125052918,
    "scale": 500
   },
   {
    "level": 18,
    "resolution": 0.05291677250021167,
    "scale": 200
   }
  ]
 },
 "initialExtent": {
  "xmin": 6570.063762390735,
  "ymin": 5937146.492900002,
  "xmax": 41534.32263760963,
  "ymax": 5953413.592900001,
  "spatialReference": {
   "wkid": 3780,
   "latestWkid": 3780
  }
 },
 "fullExtent": {
  "xmin": 16373.29320000019,
  "ymin": 5937146.492900001,
  "xmax": 31731.09320000019,
  "ymax": 5953413.5929000005,
  "spatialReference": {
   "wkid": 3780,
   "latestWkid": 3780
  }
 },
 "minScale": 3000000,
 "maxScale": 200,
 "units": "esriMeters",
 "supportedImageFormatTypes": "PNG32,PNG24,PNG,JPG,DIB,TIFF,EMF,PS,PDF,GIF,SVG,SVGZ,BMP",
 "documentInfo": {
  "Title": "St Albert Topographic Basemap",
  "Author": "Corporate GIS, City of St Albert",
  "Comments": "Combined vector and raster basemap displaying key topographic data. This is a fused cache map service for basemap use under other dynamic services. Projection: 3TM (114)",
  "Subject": "City of St Albert PUBLIC topographic basemap.",
  "Category": "",
  "AntialiasingMode": "Normal",
  "TextAntialiasingMode": "Force",
  "Keywords": "St Albert,St. Albert,Alberta,Canada,basemap,base,streets,roads,elevation,topography"
 },
 "capabilities": "Map,Query",
 "supportedQueryFormats": "JSON, AMF",
 "exportTilesAllowed": false,
 "maxRecordCount": 1000,
 "maxImageHeight": 4096,
 "maxImageWidth": 4096,
 "supportedExtensions": "KmlServer"
}
