{
 "currentVersion": 10.31,
 "serviceDescription": "Vector map service containing an ESRI Community Basemap-like vector basemap. Includes streets, hydrology, parcels, addresses, parks. Designed for use with the City of St. Albert LandScape application. This is a fused cache map service for basemap use under other dynamic services.\n\nIntended for internal use \u2013 may display information not suitable for public applications.\n",
 "mapName": "Layers",
 "description": "",
 "copyrightText": "Corporate GIS, City of St Albert, Alberta, Canada",
 "supportsDynamicLayers": false,
 "layers": [
  {
   "id": 0,
   "name": "Bus Stops",
   "parentLayerId": -1,
   "defaultVisibility": true,
   "subLayerIds": null,
   "minScale": 3000,
   "maxScale": 0
  },
  {
   "id": 1,
   "name": "Street and Park Trees",
   "parentLayerId": -1,
   "defaultVisibility": true,
   "subLayerIds": null,
   "minScale": 3000,
   "maxScale": 0
  },
  {
   "id": 2,
   "name": "Parking Lot - Stall Lines",
   "parentLayerId": -1,
   "defaultVisibility": true,
   "subLayerIds": null,
   "minScale": 4000,
   "maxScale": 0
  },
  {
   "id": 3,
   "name": "Sports Fields",
   "parentLayerId": -1,
   "defaultVisibility": true,
   "subLayerIds": null,
   "minScale": 10000,
   "maxScale": 0
  },
  {
   "id": 4,
   "name": "Tree Stands",
   "parentLayerId": -1,
   "defaultVisibility": true,
   "subLayerIds": null,
   "minScale": 20000,
   "maxScale": 0
  },
  {
   "id": 5,
   "name": "City Boundary",
   "parentLayerId": -1,
   "defaultVisibility": true,
   "subLayerIds": null,
   "minScale": 3000000,
   "maxScale": 0
  },
  {
   "id": 6,
   "name": "Neighbourhood Boundaries",
   "parentLayerId": -1,
   "defaultVisibility": true,
   "subLayerIds": null,
   "minScale": 30000,
   "maxScale": 4001
  },
  {
   "id": 7,
   "name": "Railway",
   "parentLayerId": -1,
   "defaultVisibility": true,
   "subLayerIds": null,
   "minScale": 10000,
   "maxScale": 0
  },
  {
   "id": 8,
   "name": "Railway - zoomed out",
   "parentLayerId": -1,
   "defaultVisibility": true,
   "subLayerIds": null,
   "minScale": 100000,
   "maxScale": 10001
  },
  {
   "id": 9,
   "name": "Trails",
   "parentLayerId": -1,
   "defaultVisibility": true,
   "subLayerIds": null,
   "minScale": 20000,
   "maxScale": 0
  },
  {
   "id": 10,
   "name": "Streets 0-3000",
   "parentLayerId": -1,
   "defaultVisibility": true,
   "subLayerIds": null,
   "minScale": 3000,
   "maxScale": 0
  },
  {
   "id": 11,
   "name": "Streets 3000-15000",
   "parentLayerId": -1,
   "defaultVisibility": true,
   "subLayerIds": null,
   "minScale": 15000,
   "maxScale": 3001
  },
  {
   "id": 12,
   "name": "Streets 15000-30000",
   "parentLayerId": -1,
   "defaultVisibility": true,
   "subLayerIds": null,
   "minScale": 30000,
   "maxScale": 15001
  },
  {
   "id": 13,
   "name": "Streets 30000-80000",
   "parentLayerId": -1,
   "defaultVisibility": true,
   "subLayerIds": null,
   "minScale": 200000,
   "maxScale": 30001
  },
  {
   "id": 14,
   "name": "Building Types",
   "parentLayerId": -1,
   "defaultVisibility": true,
   "subLayerIds": null,
   "minScale": 15000,
   "maxScale": 0
  },
  {
   "id": 15,
   "name": "Unit Addresses",
   "parentLayerId": -1,
   "defaultVisibility": true,
   "subLayerIds": null,
   "minScale": 3000,
   "maxScale": 0
  },
  {
   "id": 16,
   "name": "Building Representations",
   "parentLayerId": -1,
   "defaultVisibility": true,
   "subLayerIds": null,
   "minScale": 7000,
   "maxScale": 0
  },
  {
   "id": 17,
   "name": "Streams",
   "parentLayerId": -1,
   "defaultVisibility": true,
   "subLayerIds": null,
   "minScale": 200000,
   "maxScale": 0
  },
  {
   "id": 18,
   "name": "Water Cartographic Buffers",
   "parentLayerId": -1,
   "defaultVisibility": true,
   "subLayerIds": null,
   "minScale": 200000,
   "maxScale": 0
  },
  {
   "id": 19,
   "name": "Wetlands",
   "parentLayerId": -1,
   "defaultVisibility": true,
   "subLayerIds": null,
   "minScale": 50000,
   "maxScale": 0
  },
  {
   "id": 20,
   "name": "Lakes and Rivers",
   "parentLayerId": -1,
   "defaultVisibility": true,
   "subLayerIds": null,
   "minScale": 200000,
   "maxScale": 0
  },
  {
   "id": 21,
   "name": "Reservoirs",
   "parentLayerId": -1,
   "defaultVisibility": true,
   "subLayerIds": null,
   "minScale": 15000,
   "maxScale": 0
  },
  {
   "id": 22,
   "name": "Parcels",
   "parentLayerId": -1,
   "defaultVisibility": true,
   "subLayerIds": null,
   "minScale": 7000,
   "maxScale": 0
  },
  {
   "id": 23,
   "name": "Parking Lot - Inner Islands",
   "parentLayerId": -1,
   "defaultVisibility": true,
   "subLayerIds": null,
   "minScale": 7000,
   "maxScale": 0
  },
  {
   "id": 24,
   "name": "Parking Lots",
   "parentLayerId": -1,
   "defaultVisibility": true,
   "subLayerIds": null,
   "minScale": 15000,
   "maxScale": 0
  },
  {
   "id": 25,
   "name": "Cemeteries",
   "parentLayerId": -1,
   "defaultVisibility": true,
   "subLayerIds": null,
   "minScale": 50000,
   "maxScale": 0
  },
  {
   "id": 26,
   "name": "Provincial Protected Areas",
   "parentLayerId": -1,
   "defaultVisibility": true,
   "subLayerIds": null,
   "minScale": 100000,
   "maxScale": 0
  },
  {
   "id": 27,
   "name": "Pathways",
   "parentLayerId": -1,
   "defaultVisibility": true,
   "subLayerIds": null,
   "minScale": 15000,
   "maxScale": 0
  },
  {
   "id": 28,
   "name": "Other Green Space",
   "parentLayerId": -1,
   "defaultVisibility": true,
   "subLayerIds": null,
   "minScale": 15000,
   "maxScale": 0
  },
  {
   "id": 29,
   "name": "Parks and Green Space",
   "parentLayerId": -1,
   "defaultVisibility": true,
   "subLayerIds": null,
   "minScale": 100000,
   "maxScale": 0
  },
  {
   "id": 30,
   "name": "Parcel Background",
   "parentLayerId": -1,
   "defaultVisibility": true,
   "subLayerIds": null,
   "minScale": 15000,
   "maxScale": 0
  },
  {
   "id": 31,
   "name": "City - Background",
   "parentLayerId": -1,
   "defaultVisibility": true,
   "subLayerIds": null,
   "minScale": 3000000,
   "maxScale": 0
  },
  {
   "id": 32,
   "name": "Map Service Full Extent Boundary",
   "parentLayerId": -1,
   "defaultVisibility": true,
   "subLayerIds": null,
   "minScale": 0,
   "maxScale": 0
  }
 ],
 "tables": [],
 "spatialReference": {
  "wkid": 3780,
  "latestWkid": 3780
 },
 "singleFusedMapCache": true,
 "tileInfo": {
  "rows": 256,
  "cols": 256,
  "dpi": 96,
  "format": "PNG",
  "compressionQuality": 0,
  "origin": {
   "x": -5622600,
   "y": 10001100
  },
  "spatialReference": {
   "wkid": 3780,
   "latestWkid": 3780
  },
  "lods": [
   {
    "level": 0,
    "resolution": 793.7515875031751,
    "scale": 3000000
   },
   {
    "level": 1,
    "resolution": 264.5838625010584,
    "scale": 1000000
   },
   {
    "level": 2,
    "resolution": 132.2919312505292,
    "scale": 500000
   },
   {
    "level": 3,
    "resolution": 79.37515875031751,
    "scale": 300000
   },
   {
    "level": 4,
    "resolution": 52.91677250021167,
    "scale": 200000
   },
   {
    "level": 5,
    "resolution": 26.458386250105836,
    "scale": 100000
   },
   {
    "level": 6,
    "resolution": 19.843789687579378,
    "scale": 75000
   },
   {
    "level": 7,
    "resolution": 13.229193125052918,
    "scale": 50000
   },
   {
    "level": 8,
    "resolution": 7.9375158750317505,
    "scale": 30000
   },
   {
    "level": 9,
    "resolution": 5.291677250021167,
    "scale": 20000
   },
   {
    "level": 10,
    "resolution": 3.9687579375158752,
    "scale": 15000
   },
   {
    "level": 11,
    "resolution": 2.6458386250105836,
    "scale": 10000
   },
   {
    "level": 12,
    "resolution": 1.8520870375074086,
    "scale": 7000
   },
   {
    "level": 13,
    "resolution": 1.0583354500042335,
    "scale": 4000
   },
   {
    "level": 14,
    "resolution": 0.7937515875031751,
    "scale": 3000
   },
   {
    "level": 15,
    "resolution": 0.42333418000169337,
    "scale": 1600
   },
   {
    "level": 16,
    "resolution": 0.26458386250105836,
    "scale": 1000
   },
   {
    "level": 17,
    "resolution": 0.13229193125052918,
    "scale": 500
   },
   {
    "level": 18,
    "resolution": 0.05291677250021167,
    "scale": 200
   }
  ]
 },
 "initialExtent": {
  "xmin": 21980.501556616808,
  "ymin": 5944244.197078309,
  "xmax": 26123.884843383385,
  "ymax": 5946315.888721692,
  "spatialReference": {
   "wkid": 3780,
   "latestWkid": 3780
  }
 },
 "fullExtent": {
  "xmin": 16373.29320000019,
  "ymin": 5937146.492900001,
  "xmax": 31731.093200000003,
  "ymax": 5953413.5929000005,
  "spatialReference": {
   "wkid": 3780,
   "latestWkid": 3780
  }
 },
 "minScale": 30000,
 "maxScale": 1000,
 "units": "esriMeters",
 "supportedImageFormatTypes": "PNG32,PNG24,PNG,JPG,DIB,TIFF,EMF,PS,PDF,GIF,SVG,SVGZ,BMP",
 "documentInfo": {
  "Title": "St Albert Community Basemap",
  "Author": "Corporate GIS, City of St Albert",
  "Comments": "Vector map service containing an ESRI Community Basemap-like vector basemap. Includes streets, hydrology, parcels, addresses, parks. Designed for use with the City of St. Albert LandScape application. This is a fused cache map service for basemap use under other dynamic services.\n\nIntended for internal use \u2013 may display information not suitable for public applications.\n",
  "Subject": "City of St Albert Land-Scape GIS portal basemap - INTERNAL version.",
  "Category": "",
  "AntialiasingMode": "None",
  "TextAntialiasingMode": "Force",
  "Keywords": "St Albert,St. Albert,Alberta,Canada,basemap,base,LandScape,streets,roads,parcels"
 },
 "capabilities": "Map,Query,Data",
 "supportedQueryFormats": "JSON, AMF",
 "exportTilesAllowed": false,
 "maxRecordCount": 1000,
 "maxImageHeight": 4096,
 "maxImageWidth": 4096,
 "supportedExtensions": "KmlServer"
}
