{
 "currentVersion": 10.31,
 "serviceDescription": "City of St. Albert corporate basemap used for internal and external web mapping applications",
 "mapName": "Layers",
 "description": "",
 "copyrightText": "City of St. Albert",
 "supportsDynamicLayers": false,
 "layers": [
  {
   "id": 0,
   "name": "City Boundary",
   "parentLayerId": -1,
   "defaultVisibility": true,
   "subLayerIds": null,
   "minScale": 730000,
   "maxScale": 0
  },
  {
   "id": 1,
   "name": "Transit Stops",
   "parentLayerId": -1,
   "defaultVisibility": true,
   "subLayerIds": null,
   "minScale": 4513.988705,
   "maxScale": 0
  },
  {
   "id": 2,
   "name": "Tree Inventory",
   "parentLayerId": -1,
   "defaultVisibility": true,
   "subLayerIds": null,
   "minScale": 4513.988705,
   "maxScale": 0
  },
  {
   "id": 3,
   "name": "Sports Fields",
   "parentLayerId": -1,
   "defaultVisibility": true,
   "subLayerIds": null,
   "minScale": 9029,
   "maxScale": 0
  },
  {
   "id": 4,
   "name": "Tree Stands",
   "parentLayerId": -1,
   "defaultVisibility": true,
   "subLayerIds": null,
   "minScale": 18055.954822,
   "maxScale": 0
  },
  {
   "id": 5,
   "name": "Neighbourhood Labels",
   "parentLayerId": -1,
   "defaultVisibility": true,
   "subLayerIds": null,
   "minScale": 36113,
   "maxScale": 4513.988705
  },
  {
   "id": 6,
   "name": "Railway 0 - 9000",
   "parentLayerId": -1,
   "defaultVisibility": true,
   "subLayerIds": [
    7,
    8
   ],
   "minScale": 9029,
   "maxScale": 0
  },
  {
   "id": 7,
   "name": "Railway Regional",
   "parentLayerId": 6,
   "defaultVisibility": true,
   "subLayerIds": null,
   "minScale": 10000,
   "maxScale": 0
  },
  {
   "id": 8,
   "name": "Railway Edmonton",
   "parentLayerId": 6,
   "defaultVisibility": true,
   "subLayerIds": null,
   "minScale": 10000,
   "maxScale": 0
  },
  {
   "id": 9,
   "name": "Railway 9000 - 36000",
   "parentLayerId": -1,
   "defaultVisibility": true,
   "subLayerIds": [
    10,
    11
   ],
   "minScale": 36113,
   "maxScale": 9027.977411
  },
  {
   "id": 10,
   "name": "Railway Regional",
   "parentLayerId": 9,
   "defaultVisibility": true,
   "subLayerIds": null,
   "minScale": 100000,
   "maxScale": 10001
  },
  {
   "id": 11,
   "name": "Railway Edmonton",
   "parentLayerId": 9,
   "defaultVisibility": true,
   "subLayerIds": null,
   "minScale": 100000,
   "maxScale": 10001
  },
  {
   "id": 12,
   "name": "Pathway",
   "parentLayerId": -1,
   "defaultVisibility": true,
   "subLayerIds": null,
   "minScale": 18055.954822,
   "maxScale": 0
  },
  {
   "id": 13,
   "name": "Streets 0 - 4500",
   "parentLayerId": -1,
   "defaultVisibility": true,
   "subLayerIds": null,
   "minScale": 4514,
   "maxScale": 0
  },
  {
   "id": 14,
   "name": "Streets 4500 - 18000",
   "parentLayerId": -1,
   "defaultVisibility": true,
   "subLayerIds": null,
   "minScale": 18056,
   "maxScale": 4515
  },
  {
   "id": 15,
   "name": "Streets 18000 - 36000",
   "parentLayerId": -1,
   "defaultVisibility": true,
   "subLayerIds": null,
   "minScale": 36112,
   "maxScale": 18057
  },
  {
   "id": 16,
   "name": "Streets 36000 - 73000",
   "parentLayerId": -1,
   "defaultVisibility": true,
   "subLayerIds": null,
   "minScale": 73000,
   "maxScale": 36113
  },
  {
   "id": 17,
   "name": "Buildings",
   "parentLayerId": -1,
   "defaultVisibility": true,
   "subLayerIds": [
    18,
    19,
    20
   ],
   "minScale": 18055.954822,
   "maxScale": 0
  },
  {
   "id": 18,
   "name": "Building Labels",
   "parentLayerId": 17,
   "defaultVisibility": true,
   "subLayerIds": null,
   "minScale": 15000,
   "maxScale": 0
  },
  {
   "id": 20,
   "name": "Building Footprints",
   "parentLayerId": 17,
   "defaultVisibility": true,
   "subLayerIds": null,
   "minScale": 18055.954822,
   "maxScale": 0
  },
  {
   "id": 21,
   "name": "Basemap mask",
   "parentLayerId": -1,
   "defaultVisibility": true,
   "subLayerIds": null,
   "minScale": 0,
   "maxScale": 0
  },
  {
   "id": 22,
   "name": "Streams",
   "parentLayerId": -1,
   "defaultVisibility": true,
   "subLayerIds": null,
   "minScale": 73000,
   "maxScale": 0
  },
  {
   "id": 23,
   "name": "Waterbodies",
   "parentLayerId": -1,
   "defaultVisibility": true,
   "subLayerIds": null,
   "minScale": 73000,
   "maxScale": 0
  },
  {
   "id": 24,
   "name": "Wetlands",
   "parentLayerId": -1,
   "defaultVisibility": true,
   "subLayerIds": null,
   "minScale": 73000,
   "maxScale": 0
  },
  {
   "id": 25,
   "name": "Hydrology Labels",
   "parentLayerId": -1,
   "defaultVisibility": true,
   "subLayerIds": null,
   "minScale": 73000,
   "maxScale": 0
  },
  {
   "id": 26,
   "name": "Reservoir",
   "parentLayerId": -1,
   "defaultVisibility": true,
   "subLayerIds": null,
   "minScale": 18056,
   "maxScale": 0
  },
  {
   "id": 27,
   "name": "Parcel Fabric",
   "parentLayerId": -1,
   "defaultVisibility": true,
   "subLayerIds": null,
   "minScale": 4514,
   "maxScale": 0
  },
  {
   "id": 28,
   "name": "Parking Lots",
   "parentLayerId": -1,
   "defaultVisibility": true,
   "subLayerIds": null,
   "minScale": 9028,
   "maxScale": 0
  },
  {
   "id": 29,
   "name": "Cemeteries",
   "parentLayerId": -1,
   "defaultVisibility": true,
   "subLayerIds": null,
   "minScale": 50000,
   "maxScale": 0
  },
  {
   "id": 30,
   "name": "Provincial Protected Areas",
   "parentLayerId": -1,
   "defaultVisibility": true,
   "subLayerIds": null,
   "minScale": 73000,
   "maxScale": 0
  },
  {
   "id": 31,
   "name": "Greenspace",
   "parentLayerId": -1,
   "defaultVisibility": true,
   "subLayerIds": null,
   "minScale": 73000,
   "maxScale": 0
  },
  {
   "id": 32,
   "name": "City Background",
   "parentLayerId": -1,
   "defaultVisibility": true,
   "subLayerIds": null,
   "minScale": 73000,
   "maxScale": 0
  },
  {
   "id": 33,
   "name": "Map Service Extent",
   "parentLayerId": -1,
   "defaultVisibility": true,
   "subLayerIds": null,
   "minScale": 0,
   "maxScale": 0
  }
 ],
 "tables": [],
 "spatialReference": {
  "wkid": 102187,
  "latestWkid": 3776
 },
 "singleFusedMapCache": true,
 "tileInfo": {
  "rows": 256,
  "cols": 256,
  "dpi": 96,
  "format": "PNG",
  "compressionQuality": 0,
  "origin": {
   "x": -5622600,
   "y": 10001100
  },
  "spatialReference": {
   "wkid": 102187,
   "latestWkid": 3776
  },
  "lods": [
   {
    "level": 0,
    "resolution": 19.10925707126831,
    "scale": 72223.819286
   },
   {
    "level": 1,
    "resolution": 9.554628535634155,
    "scale": 36111.909643
   },
   {
    "level": 2,
    "resolution": 4.77731426794937,
    "scale": 18055.954822
   },
   {
    "level": 3,
    "resolution": 2.388657133974685,
    "scale": 9027.977411
   },
   {
    "level": 4,
    "resolution": 1.1943285668550503,
    "scale": 4513.988705
   },
   {
    "level": 5,
    "resolution": 0.5971642835598172,
    "scale": 2256.994353
   },
   {
    "level": 6,
    "resolution": 0.29858214164761665,
    "scale": 1128.497176
   },
   {
    "level": 7,
    "resolution": 0.14929107082380833,
    "scale": 564.248588
   },
   {
    "level": 8,
    "resolution": 0.07464553541190416,
    "scale": 282.124294
   }
  ]
 },
 "initialExtent": {
  "xmin": 12017.03338451047,
  "ymin": 5940517.902819955,
  "xmax": 32695.585158280686,
  "ymax": 5951336.736957624,
  "spatialReference": {
   "wkid": 102187,
   "latestWkid": 3776
  }
 },
 "fullExtent": {
  "xmin": 14933.222991687144,
  "ymin": 5936719.7333939,
  "xmax": 32934.143152822646,
  "ymax": 5953898.9555009715,
  "spatialReference": {
   "wkid": 102187,
   "latestWkid": 3776
  }
 },
 "minScale": 72223.819286,
 "maxScale": 564.248588,
 "units": "esriMeters",
 "supportedImageFormatTypes": "PNG32,PNG24,PNG,JPG,DIB,TIFF,EMF,PS,PDF,GIF,SVG,SVGZ,BMP",
 "documentInfo": {
  "Title": "",
  "Author": "",
  "Comments": "City of St. Albert corporate basemap used for internal and external web mapping applications",
  "Subject": "City of St. Albert corporate basemap",
  "Category": "",
  "AntialiasingMode": "None",
  "TextAntialiasingMode": "Force",
  "Keywords": "COSA,Basemap,Cityscape,Landscape"
 },
 "capabilities": "Map,Query,Data",
 "supportedQueryFormats": "JSON, AMF",
 "exportTilesAllowed": false,
 "maxRecordCount": 1000,
 "maxImageHeight": 4096,
 "maxImageWidth": 4096,
 "supportedExtensions": ""
}
